BEGIN:VCALENDAR
VERSION:2.0
PRODID:-//Focus Marines Foundation - ECPv6.15.20//NONSGML v1.0//EN
CALSCALE:GREGORIAN
METHOD:PUBLISH
X-WR-CALNAME:Focus Marines Foundation
X-ORIGINAL-URL:https://focusmarines.org
X-WR-CALDESC:Events for Focus Marines Foundation
REFRESH-INTERVAL;VALUE=DURATION:PT1H
X-Robots-Tag:noindex
X-PUBLISHED-TTL:PT1H
BEGIN:VTIMEZONE
TZID:America/Chicago
BEGIN:DAYLIGHT
TZOFFSETFROM:-0600
TZOFFSETTO:-0500
TZNAME:CDT
DTSTART:20240310T080000
END:DAYLIGHT
BEGIN:STANDARD
TZOFFSETFROM:-0500
TZOFFSETTO:-0600
TZNAME:CST
DTSTART:20241103T070000
END:STANDARD
BEGIN:DAYLIGHT
TZOFFSETFROM:-0600
TZOFFSETTO:-0500
TZNAME:CDT
DTSTART:20250309T080000
END:DAYLIGHT
BEGIN:STANDARD
TZOFFSETFROM:-0500
TZOFFSETTO:-0600
TZNAME:CST
DTSTART:20251102T070000
END:STANDARD
BEGIN:DAYLIGHT
TZOFFSETFROM:-0600
TZOFFSETTO:-0500
TZNAME:CDT
DTSTART:20260308T080000
END:DAYLIGHT
BEGIN:STANDARD
TZOFFSETFROM:-0500
TZOFFSETTO:-0600
TZNAME:CST
DTSTART:20261101T070000
END:STANDARD
END:VTIMEZONE
BEGIN:VEVENT
DTSTART;TZID=America/Chicago:20250605T190000
DTEND;TZID=America/Chicago:20250605T200000
DTSTAMP:20260421T233815
CREATED:20241022T212323Z
LAST-MODIFIED:20241022T212339Z
UID:3823-1749150000-1749153600@focusmarines.org
SUMMARY:Buddy Check Call - June 5th\, 2025
DESCRIPTION:Buddy Check June 5\, 2025 7:00-8:00 PM CST \nPlease contact Jennifer@focusmarines.org for additional information on the Buddy Check.
URL:https://focusmarines.org/event/buddy-check-call-june-5th-2025/
LOCATION:Online – Zoom
END:VEVENT
BEGIN:VEVENT
DTSTART;TZID=America/Chicago:20250610T183000
DTEND;TZID=America/Chicago:20250610T200000
DTSTAMP:20260421T233815
CREATED:20241024T185102Z
LAST-MODIFIED:20241024T185102Z
UID:3836-1749580200-1749585600@focusmarines.org
SUMMARY:Re-FOCUS - June 10th\, 2025
DESCRIPTION:Re-FOCUS June 10\, 2025 6:30-8:00 PM CST \nPlease contact Jennifer@focusmarines.org for additional information on the Re-FOCUS.
URL:https://focusmarines.org/event/re-focus-june-10th-2025/
LOCATION:Online – Zoom
END:VEVENT
BEGIN:VEVENT
DTSTART;TZID=America/Chicago:20250617T183000
DTEND;TZID=America/Chicago:20250617T200000
DTSTAMP:20260421T233816
CREATED:20241024T185309Z
LAST-MODIFIED:20241024T185309Z
UID:3837-1750185000-1750190400@focusmarines.org
SUMMARY:Re-FOCUS - June 17th\, 2025
DESCRIPTION:Re-FOCUS June 15\, 2025 6:30-8:00 PM CST \nPlease contact Jennifer@focusmarines.org for additional information on the Re-FOCUS.
URL:https://focusmarines.org/event/re-focus-june-17th-2025/
LOCATION:Online – Zoom
END:VEVENT
BEGIN:VEVENT
DTSTART;TZID=America/Chicago:20250626T080000
DTEND;TZID=America/Chicago:20250731T170000
DTSTAMP:20260421T233816
CREATED:20250626T224721Z
LAST-MODIFIED:20250626T224917Z
UID:3902-1750924800-1753981200@focusmarines.org
SUMMARY:Summer $250 Gas Card Raffle - July 31st\, 2025
DESCRIPTION:This is a FOCUS sponsored raffle fundraiser.  All proceeds benefit FOCUS.  Purchase Raffle Tickets at onecau.se/july2025raffle \n 
URL:https://focusmarines.org/event/online-summer-gas-card-raffle-july-31st-2025/
LOCATION:online
END:VEVENT
END:VCALENDAR